BEGIN:VCALENDAR
VERSION:2.0
PRODID:-//Pfarre Reindorf - ECPv6.15.20//NONSGML v1.0//EN
CALSCALE:GREGORIAN
METHOD:PUBLISH
X-WR-CALNAME:Pfarre Reindorf
X-ORIGINAL-URL:https://reindorf.eu
X-WR-CALDESC:Veranstaltungen für Pfarre Reindorf
REFRESH-INTERVAL;VALUE=DURATION:PT1H
X-Robots-Tag:noindex
X-PUBLISHED-TTL:PT1H
BEGIN:VTIMEZONE
TZID:Europe/Vienna
BEGIN:DAYLIGHT
TZOFFSETFROM:+0100
TZOFFSETTO:+0200
TZNAME:CEST
DTSTART:20250330T010000
END:DAYLIGHT
BEGIN:STANDARD
TZOFFSETFROM:+0200
TZOFFSETTO:+0100
TZNAME:CET
DTSTART:20251026T010000
END:STANDARD
BEGIN:DAYLIGHT
TZOFFSETFROM:+0100
TZOFFSETTO:+0200
TZNAME:CEST
DTSTART:20260329T010000
END:DAYLIGHT
BEGIN:STANDARD
TZOFFSETFROM:+0200
TZOFFSETTO:+0100
TZNAME:CET
DTSTART:20261025T010000
END:STANDARD
BEGIN:DAYLIGHT
TZOFFSETFROM:+0100
TZOFFSETTO:+0200
TZNAME:CEST
DTSTART:20270328T010000
END:DAYLIGHT
BEGIN:STANDARD
TZOFFSETFROM:+0200
TZOFFSETTO:+0100
TZNAME:CET
DTSTART:20271031T010000
END:STANDARD
END:VTIMEZONE
BEGIN:VEVENT
DTSTART;VALUE=DATE:20260420
DTEND;VALUE=DATE:20260424
DTSTAMP:20260421T120830
CREATED:20241228T170454Z
LAST-MODIFIED:20260420T202416Z
UID:9329-1776643200-1776988799@reindorf.eu
SUMMARY:Geänderte Gottesdienstordnung
DESCRIPTION:Wegen des Geschäftskapitels der Kalasantiner-Kongregation werden nur die 8-Uhr-Messen gefeiert (die 7-Uhr-Messen und die Abendmesse am Dienstag entfallen)! \n 
URL:https://reindorf.eu/termine/geaenderte-gottesdienstordnung/
LOCATION:Pfarrkirche\, Reindorfgasse 21\, Wien\, 1150\, Österreich
ORGANIZER;CN="Pfarre Reindorf":MAILTO:pfarrkanzlei@reindorf.at
END:VEVENT
END:VCALENDAR